BEGIN:VCALENDAR
VERSION:2.0
PRODID:-//Alpos Barn - ECPv6.15.20//NONSGML v1.0//EN
CALSCALE:GREGORIAN
METHOD:PUBLISH
X-ORIGINAL-URL:https://alposbarn.com
X-WR-CALDESC:Events for Alpos Barn
REFRESH-INTERVAL;VALUE=DURATION:PT1H
X-Robots-Tag:noindex
X-PUBLISHED-TTL:PT1H
BEGIN:VTIMEZONE
TZID:America/Denver
BEGIN:DAYLIGHT
TZOFFSETFROM:-0700
TZOFFSETTO:-0600
TZNAME:MDT
DTSTART:20240310T090000
END:DAYLIGHT
BEGIN:STANDARD
TZOFFSETFROM:-0600
TZOFFSETTO:-0700
TZNAME:MST
DTSTART:20241103T080000
END:STANDARD
BEGIN:DAYLIGHT
TZOFFSETFROM:-0700
TZOFFSETTO:-0600
TZNAME:MDT
DTSTART:20250309T090000
END:DAYLIGHT
BEGIN:STANDARD
TZOFFSETFROM:-0600
TZOFFSETTO:-0700
TZNAME:MST
DTSTART:20251102T080000
END:STANDARD
BEGIN:DAYLIGHT
TZOFFSETFROM:-0700
TZOFFSETTO:-0600
TZNAME:MDT
DTSTART:20260308T090000
END:DAYLIGHT
BEGIN:STANDARD
TZOFFSETFROM:-0600
TZOFFSETTO:-0700
TZNAME:MST
DTSTART:20261101T080000
END:STANDARD
BEGIN:DAYLIGHT
TZOFFSETFROM:-0700
TZOFFSETTO:-0600
TZNAME:MDT
DTSTART:20270314T090000
END:DAYLIGHT
BEGIN:STANDARD
TZOFFSETFROM:-0600
TZOFFSETTO:-0700
TZNAME:MST
DTSTART:20271107T080000
END:STANDARD
END:VTIMEZONE
BEGIN:VEVENT
DTSTART;TZID=America/Denver:20250531T200000
DTEND;TZID=America/Denver:20250531T235900
DTSTAMP:20260421T041808
CREATED:20250504T180437Z
LAST-MODIFIED:20250531T195255Z
UID:12950-1748721600-1748735940@alposbarn.com
SUMMARY:Two Tons of Steel with special guest Hunter Hicks
DESCRIPTION:ONLINE TICKET SALES HAVE ENDED. TICKETS WILL BE AVAILABLE AT THE GATE. GATE OPENS AT 8PM TEXAS TIME!! \nTwo Tons of Steel with special guest Hunter Hicks will be LIVE @ Alpo’s Barn!\nGates open at 8:00pm\nLive music kicks off at 9:00pm\nRemember ALL times are Texas Time!\nTickets in advance (online) $35.00 or $45.00 day of show at the gate and as always kids 12 and under are FREE! (credit/debit cards accepted) \n** $35 online advance tickets will be sold\nuntil Friday May 30th @ midnight.\nBYOB (21yrs and over. Be prepared to show ID)…\nNo Cooler Charge!\nCans only\, no glass bottles. Strictly enforced!\nFood available at THE GRUB TUB!
URL:https://alposbarn.com/event/two-tons-of-steel-with-special-guest-hunter-hicks/
END:VEVENT
BEGIN:VEVENT
DTSTART;TZID=America/Denver:20250628T200000
DTEND;TZID=America/Denver:20250628T235900
DTSTAMP:20260421T041808
CREATED:20250604T011623Z
LAST-MODIFIED:20250628T184634Z
UID:13126-1751140800-1751155140@alposbarn.com
SUMMARY:Cory Morrow LIVE at Alpo's Barn
DESCRIPTION:  \nTICKETS WILL BE AVAILABLE AT THE GATE! \nGATE OPENS AT 8PM TEXAS TIME \nSaturday June 28\, 2025Cory Morrow with special guest Chad Miller & T Good Fortune will be LIVE @ Alpo’s Barn!Gates open at 8:00pmLive music kicks off at 9:00pmRemember ALL times are Texas Time!Tickets in advance (online) $35.00 or $45.00 day of show at the gate and as always kids 12 and under are FREE! (credit/debit cards accepted)** $35 online advance tickets will be solduntil Friday June 27th @ midnight.BYOB (21yrs and over. Be prepared to show ID)…No Cooler Charge!Cans only\, no glass bottles. Strictly enforced!Food available at THE GRUB TUB! \n****We are a rain or shine venue. NO refunds will be issued unless the venue changes main band or date.
URL:https://alposbarn.com/event/cory-morrow-live-at-alpos-barn/
END:VEVENT
BEGIN:VEVENT
DTSTART;TZID=America/Denver:20250726T200000
DTEND;TZID=America/Denver:20250726T200000
DTSTAMP:20260421T041808
CREATED:20250716T204714Z
LAST-MODIFIED:20250726T200436Z
UID:13307-1753560000-1753560000@alposbarn.com
SUMMARY:Dean Seltzer & The Redneck Mothers
DESCRIPTION:  \n \nONLINE TICKET SALES HAVE ENDED. TICKETS WILL BE AVAILABLE AT THE GATE. GATE OPENS AT 8PM TEXAS TIME!!!! \nSaturday July 26 \, 2025Dean Seltzer & The Redneck Mothers will be LIVE @ Alpo’s Barn!Gates open at 8:00pmLive music kicks off at 9:00pmRemember ALL times are Texas Time!Tickets in advance (online) $25.00 or $35.00 day of show at the gate and as always kids 12 and under are FREE! (credit/debit cards accepted)** $25 online advance tickets will be solduntil Friday July 25th @ midnight.BYOB (21yrs and over. Be prepared to show ID)…No Cooler Charge!Cans only\, no glass bottles. Strictly enforced!Food available at THE GRUB TUB! \nRain or shine venue. No refunds unless venue cancels the show!
URL:https://alposbarn.com/event/dean-seltzer-the-redneck-mothers/
END:VEVENT
BEGIN:VEVENT
DTSTART;TZID=America/Denver:20250906T180000
DTEND;TZID=America/Denver:20250906T235900
DTSTAMP:20260421T041808
CREATED:20250823T221510Z
LAST-MODIFIED:20250906T185623Z
UID:13435-1757181600-1757203140@alposbarn.com
SUMMARY:Parmer County Junior Stock Show Steak Fundraiser
DESCRIPTION:Saturday September 6\, 2025Parmer County Junior Livestock Show presents their Steak Dinner Fundraiser featuring Carson Jeffrey with speacial guest Seth Ward.Dinner will be served @ 6pm Texas Time with entertainment to follow.Tickets are $100 per person. Ticket includes dinner and free admission to the concert.
URL:https://alposbarn.com/event/parmer-county-junior-stock-show-steak-fundraiser/
END:VEVENT
BEGIN:VEVENT
DTSTART;TZID=America/Denver:20250906T200000
DTEND;TZID=America/Denver:20250906T235900
DTSTAMP:20260421T041808
CREATED:20250823T220341Z
LAST-MODIFIED:20250906T190911Z
UID:13432-1757188800-1757203140@alposbarn.com
SUMMARY:Carson Jeffrey with special guest Seth Ward
DESCRIPTION:ONLINE TICKETS SALES HAVE ENDED. TICKETS WILL BE AVAILABLE AT THE GATE. GATE OPENS AT 8PM TEXAS TIME!! \nSaturday September 6\, 2025\nCarson Jeffrey with special guest Seth Ward will be LIVE @ Alpo’s Barn!\nGates open at 8:00pm\nLive music kicks off at 9:00pm\nRemember ALL times are Texas Time!\nTickets in advance (online) $35.00 or $45.00 day of show at the gate and as always kids 12 and under are FREE! (credit/debit cards accepted)\nFor advance tickets visit:\nwww.alposbarn.com\n** $35 online advance tickets will be sold\nuntil Friday September 5th @ midnight.\nBYOB (21yrs and over. Be prepared to show ID)…\nNo Cooler Charge!\nCans only\, no glass bottles. Strictly enforced!\nFood available at THE GRUB TUB!
URL:https://alposbarn.com/event/carson-jeffrey-with-special-guest-seth-ward/
END:VEVENT
BEGIN:VEVENT
DTSTART;TZID=America/Denver:20251025T200000
DTEND;TZID=America/Denver:20251025T235900
DTSTAMP:20260421T041808
CREATED:20251007T213327Z
LAST-MODIFIED:20251025T213308Z
UID:13582-1761422400-1761436740@alposbarn.com
SUMMARY:Hub City Drifters
DESCRIPTION:Online tickets have ended. Tickets will be available at the gate. Gate opens at 8pm Texas Time.\nThe Hub City Drifters will be LIVE at Alpo’s Barn!\nOne band two hours of LIVE music\, 1960’s through 2000 Classic Country Music!\nAdvance online tickets $25. Day of show at gate $35. As always kids 12 & under FREE!Advance tickets will be sold until Friday\, October 24th at midnight.\nGate open at 8pm. Music kicks off at 9pm Texas Time.\nFood available at The Grub Tub.\nBYOB – Cans Only… NO GLASS BOTTLES\n\n*Rain or shine venue. No refunds unless venue cancels event.
URL:https://alposbarn.com/event/hub-city-drifters/
END:VEVENT
BEGIN:VEVENT
DTSTART;TZID=America/Denver:20260418T200000
DTEND;TZID=America/Denver:20260418T235900
DTSTAMP:20260421T041808
CREATED:20260307T214921Z
LAST-MODIFIED:20260418T201526Z
UID:13637-1776542400-1776556740@alposbarn.com
SUMMARY:The Rough Riders
DESCRIPTION:TICKETS WILL BE AVAILABLE AT THE GATE!\nThe Rough Riders of Nazareth Texas will be LIVE at Alpo’s Barn!\nAdvance online tickets $25. Day of show at gate $35. As always kids 12 & under FREE!Advance tickets will be sold until Friday\, April 17th at midnight.Gate open at 8pm. Music kicks off at 9pm Texas Time.Food available at The Grub Tub.\nBYOB – Cans Only… NO GLASS BOTTLES!\n\n**RAIN OR SHINE VENUE. NO REFUNDS UNLESS VENUE CANCELS EVENT.
URL:https://alposbarn.com/event/the-rough-riders/
END:VEVENT
END:VCALENDAR