BEGIN:VCALENDAR
VERSION:2.0
PRODID:-//Alpos Barn - ECPv6.15.20//NONSGML v1.0//EN
CALSCALE:GREGORIAN
METHOD:PUBLISH
X-ORIGINAL-URL:https://alposbarn.com
X-WR-CALDESC:Events for Alpos Barn
REFRESH-INTERVAL;VALUE=DURATION:PT1H
X-Robots-Tag:noindex
X-PUBLISHED-TTL:PT1H
BEGIN:VTIMEZONE
TZID:America/Denver
BEGIN:DAYLIGHT
TZOFFSETFROM:-0700
TZOFFSETTO:-0600
TZNAME:MDT
DTSTART:20220313T090000
END:DAYLIGHT
BEGIN:STANDARD
TZOFFSETFROM:-0600
TZOFFSETTO:-0700
TZNAME:MST
DTSTART:20221106T080000
END:STANDARD
BEGIN:DAYLIGHT
TZOFFSETFROM:-0700
TZOFFSETTO:-0600
TZNAME:MDT
DTSTART:20230312T090000
END:DAYLIGHT
BEGIN:STANDARD
TZOFFSETFROM:-0600
TZOFFSETTO:-0700
TZNAME:MST
DTSTART:20231105T080000
END:STANDARD
BEGIN:DAYLIGHT
TZOFFSETFROM:-0700
TZOFFSETTO:-0600
TZNAME:MDT
DTSTART:20240310T090000
END:DAYLIGHT
BEGIN:STANDARD
TZOFFSETFROM:-0600
TZOFFSETTO:-0700
TZNAME:MST
DTSTART:20241103T080000
END:STANDARD
BEGIN:DAYLIGHT
TZOFFSETFROM:-0700
TZOFFSETTO:-0600
TZNAME:MDT
DTSTART:20250309T090000
END:DAYLIGHT
BEGIN:STANDARD
TZOFFSETFROM:-0600
TZOFFSETTO:-0700
TZNAME:MST
DTSTART:20251102T080000
END:STANDARD
BEGIN:DAYLIGHT
TZOFFSETFROM:-0700
TZOFFSETTO:-0600
TZNAME:MDT
DTSTART:20260308T090000
END:DAYLIGHT
BEGIN:STANDARD
TZOFFSETFROM:-0600
TZOFFSETTO:-0700
TZNAME:MST
DTSTART:20261101T080000
END:STANDARD
BEGIN:DAYLIGHT
TZOFFSETFROM:-0700
TZOFFSETTO:-0600
TZNAME:MDT
DTSTART:20270314T090000
END:DAYLIGHT
BEGIN:STANDARD
TZOFFSETFROM:-0600
TZOFFSETTO:-0700
TZNAME:MST
DTSTART:20271107T080000
END:STANDARD
END:VTIMEZONE
BEGIN:VEVENT
DTSTART;TZID=America/Denver:20230729T200000
DTEND;TZID=America/Denver:20230729T235900
DTSTAMP:20260421T024820
CREATED:20230317T164405Z
LAST-MODIFIED:20230729T231043Z
UID:10188-1690660800-1690675140@alposbarn.com
SUMMARY:Jason Boland & The Stragglers with special guest Chad Miller & The Good Fortune
DESCRIPTION:TICKETS WILL BE AVAILABLE AT THE GATE. GATE OPENS AT 8PM TEXAS TIME! \nSaturday July 29\, 2023\nJason Boland & The Stragglers with special guest Chad Miller & The Good Fortune will be LIVE @ Alpo’s Barn!\nGates open at 8:00pm\nLive music kicks off at 9:00pm\nRemember ALL times are Texas Time!\nTickets in advance (online) $25.00 or $35.00 day of show at the gate and as always kids 12 and under are FREE! (credit/debit cards accepted)\nFor advance tickets visit:\nwww.alposbarn.com\n** $25 online advance tickets will be sold\nuntil Friday July 28th @ midnight.\nBYOB (21yrs and over. Be prepared to show ID)…\nCans only please and coolers are welcome!\nNo glass bottles. Strictly enforced!\nFood and kid friendly drinks available!
URL:https://alposbarn.com/event/jason-boland-the-stragglers-3/
END:VEVENT
BEGIN:VEVENT
DTSTART;TZID=America/Denver:20230916T200000
DTEND;TZID=America/Denver:20230916T235900
DTSTAMP:20260421T024820
CREATED:20230603T161112Z
LAST-MODIFIED:20230916T165919Z
UID:10419-1694894400-1694908740@alposbarn.com
SUMMARY:Hill Country Revival with special guest Jordan Robert Kirk
DESCRIPTION:ONLINE TICKET SALES HAVE ENDED. TICKETS WILL BE AVAILABLE AT THE GATE. GATE OPENS @ 8PM TEXAS TIME! \nHill Country Revival with special guest Jordan Robert Kirk will be LIVE @ Alpo’s Barn!\nGates open at 8:00pm\nLive music kicks off at 9:00pm\nRemember ALL times are Texas Time!\nTickets in advance (online) $25.00 or $35.00 day of show at the gate and as always kids 12 and under are FREE! (credit/debit cards accepted) \n** $25 online advance tickets will be sold\nuntil Friday September 15th @ midnight.\nBYOB (21yrs and over. Be prepared to show ID)…\nCans only please and coolers are welcome!\nNo glass bottles. Strictly enforced!\nFood and kid friendly drinks available!
URL:https://alposbarn.com/event/hill-country-revival-with-special-guest-jordan-robert-kirk/
END:VEVENT
BEGIN:VEVENT
DTSTART;TZID=America/Denver:20231028T200000
DTEND;TZID=America/Denver:20231028T235900
DTSTAMP:20260421T024820
CREATED:20231003T224532Z
LAST-MODIFIED:20231028T194427Z
UID:11309-1698523200-1698537540@alposbarn.com
SUMMARY:Ox Martin & Matt Williams
DESCRIPTION:TICKETS AVAILABLE AT THE GATE! GATE OPENS @ 8PM TEXAS TIME. SEE Y’ALL TONIGHT!! \nSaturday October 28\, 2023\nHalloween Party Alpo’s Barn style!!\nOx Martin & Matt Williams full band\nCOSTUME CONTEST CA$H PRIZES!\nGates open at 8:00pm\nLive music kicks off at 9:00pm\nRemember ALL times are Texas Time!\nTickets in advance (online) $25.00 or $35.00 at the gate and as always kids 12 and under are FREE! \n** $25 online advance tickets will be sold until 11:59pm Friday October 27\, 2023.\nBYOB (21yrs and over)…\nCans only please and coolers are welcome!\nFood trailer onsite.
URL:https://alposbarn.com/event/ox-martin-matt-williams/
END:VEVENT
BEGIN:VEVENT
DTSTART;TZID=America/Denver:20240316T200000
DTEND;TZID=America/Denver:20240316T235900
DTSTAMP:20260421T024820
CREATED:20240203T154306Z
LAST-MODIFIED:20240316T203504Z
UID:11445-1710619200-1710633540@alposbarn.com
SUMMARY:The Damn Quails with special guest Chaser Crouch
DESCRIPTION:Saturday March 16\, 2024\nThe Damn Quails with special guest Chaser Crouch will be LIVE @ Alpo’s Barn! \nGates open at 8:00pm\nLive music kicks off at 9:00pm\nRemember ALL times are Texas Time!\nTickets in advance (online) $35.00 or $45.00 day of show at the gate and as always kids 12 and under are FREE! (credit/debit cards accepted)\nFor advance tickets visit:\nwww.alposbarn.com\n** $35 online advance tickets will be sold\nuntil Friday March 15th @ midnight.\nBYOB (21yrs and over. Be prepared to show ID)…\nNo cooler charge!\nCans only\, no glass bottles. Strictly enforced!\nFood available at The Grub Tub! \n***All ticket sales are final. No refunds will be issued unless the venue cancels show.
URL:https://alposbarn.com/event/the-damn-quails-with-special-guest-chaser-crouch/
END:VEVENT
BEGIN:VEVENT
DTSTART;TZID=America/Denver:20240427T193000
DTEND;TZID=America/Denver:20240427T235900
DTSTAMP:20260421T024820
CREATED:20240330T160657Z
LAST-MODIFIED:20240427T182224Z
UID:11621-1714246200-1714262340@alposbarn.com
SUMMARY:The Eighty Eights Dueling Pianos.....After party with Rouzter
DESCRIPTION:ONLINE TICKET SALES HAVE ENDED. TICKETS WILL BE AVAILABLE AT THE GATE. GATE OPENS AT 7:30PM TEXAS TIME.\nThe Eighty Eights Dueling Pianos will be LIVE @ Alpo’s Barn!\nGates open at 7:30 pm\nShow starts at 8:30pm\nRemember ALL times are Texas Time!\nStay for the rocking after party with Rouzter!!\nTickets in advance (online) $35.00 or $45.00 day of show at the gate and as always kids 12 and under are FREE! (credit/debit cards accepted)\n** $35 online advance tickets will be sold\nuntil Friday April 26th @ midnight.\nBYOB (21yrs and over. Be prepared to show ID)…\nNo Cooler Charge!\nCans only\, no glass bottles. Strictly enforced!\nFood available at THE GRUB TUB!
URL:https://alposbarn.com/event/the-eighty-eights-dueling-pianos-after-party-with-rouzter/
END:VEVENT
BEGIN:VEVENT
DTSTART;TZID=America/Denver:20240518T200000
DTEND;TZID=America/Denver:20240518T235900
DTSTAMP:20260421T024820
CREATED:20240401T180024Z
LAST-MODIFIED:20240518T203338Z
UID:11636-1716062400-1716076740@alposbarn.com
SUMMARY:12 Mile LIVE @ Alpo's Barn
DESCRIPTION:REFUNDS will only be given if requested by 9pm Texas Time 5/18/2024.\nPlease text 575-799-4715 with name of purchaser and how many tickets were purchased. Thank you\, Alpo’s Barn.\nTickets available at the gate! Gate opens at 8pm Texas Time.\nWe have just been notified that Carson Jeffrey will not be able to make it tonight due to circumstances out of his and Alpo’s Barn’s control!! \nHowever\, 12 Mile has agreed to do two sets\, so there WILL be LIVE music starting at 9pm Texas Time. \nIf you purchased an online advance ticket and would like a refund\, please text 575-799-4715 with the name of the purchaser and how many tickets you purchased. \nTickets will be $35.00 at the gate. \nIf you purchased an online ticket for $45.00 you will receive a $10.00 refund at the gate.\nThank you\, Alpo’s Barn \nSaturday May 18\, 2024\nCarson Jeffrey with special guest 12 Mile will be LIVE @ Alpo’s Barn!\nGates open at 8:00pm\nLive music kicks off at 9:00pm\nRemember ALL times are Texas Time!\nTickets in advance (online) $35.00 or $45.00 day of show at the gate and as always kids 12 and under are FREE! (credit/debit cards accepted) \n** $35 online advance tickets will be sold\nuntil Friday May 17th @ midnight.\nBYOB (21yrs and over. Be prepared to show ID)…\nNo Cooler Charge!\nCans only\, no glass bottles. Strictly enforced!\nFood available at THE GRUB TUB!
URL:https://alposbarn.com/event/carson-jeffreys-with-special-guest-12-mile/
END:VEVENT
BEGIN:VEVENT
DTSTART;TZID=America/Denver:20240622T200000
DTEND;TZID=America/Denver:20240622T235900
DTSTAMP:20260421T024820
CREATED:20240401T180519Z
LAST-MODIFIED:20240622T224823Z
UID:11641-1719086400-1719100740@alposbarn.com
SUMMARY:Jackson Taylor & The Sinners with special guest South of Mayhem
DESCRIPTION:Saturday June 22\, 2024\nJackson Taylor & The Sinners with special guest South of Mayhem will be LIVE @ Alpo’s Barn!\nGates open at 8:00pm\nLive music kicks off at 9:00pm\nRemember ALL times are Texas Time!\nTickets in advance (online) $35.00 or $45.00 day of show at the gate and as always kids 12 and under are FREE! (credit/debit cards accepted) \n** $35 online advance tickets will be sold\nuntil Friday June 21st @ midnight.\nBYOB (21yrs and over. Be prepared to show ID)…\nNo Cooler Charge!\nCans only\, no glass bottles. Strictly enforced!\nFood available at THE GRUB TUB!
URL:https://alposbarn.com/event/jackson-taylor-the-sinners-with-special-guest-south-of-mayhem/
END:VEVENT
BEGIN:VEVENT
DTSTART;TZID=America/Denver:20240727T200000
DTEND;TZID=America/Denver:20240727T235900
DTSTAMP:20260421T024820
CREATED:20240401T181004Z
LAST-MODIFIED:20240727T195529Z
UID:11645-1722110400-1722124740@alposbarn.com
SUMMARY:Bellamy Brothers with special guest Hill Country Revival
DESCRIPTION:Online ticket sales have ended! Tickets will be available at the gate. Gate opens @ 8pm Texas TIME \nSaturday July 27\, 2024\nBellamy Brothers with special guest Hill Country Revival will be LIVE @ Alpo’s Barn!\nGates open at 8:00pm\nLive music kicks off at 9:00pm\nRemember ALL times are Texas Time!\nTickets in advance (online) $50.00 or $65.00 day of show at the gate and as always kids 12 and under are FREE! (credit/debit cards accepted) \n** $50 online advance tickets will be sold\nuntil Friday July 26th @ midnight.\nBYOB (21yrs and over. Be prepared to show ID)…\nNo Cooler Charge!\nCans only\, no glass bottles. Strictly enforced!\nFood available at THE GRUB TUB!
URL:https://alposbarn.com/event/bellamy-brothers-with-special-guest-hill-country-revival/
END:VEVENT
BEGIN:VEVENT
DTSTART;TZID=America/Denver:20240907T200000
DTEND;TZID=America/Denver:20240907T235900
DTSTAMP:20260421T024820
CREATED:20240803T182728Z
LAST-MODIFIED:20240907T203012Z
UID:12580-1725739200-1725753540@alposbarn.com
SUMMARY:Bart Crow with special guest Pat Waters
DESCRIPTION:Bart Crow with special guest Pat Waters. \nGate opens at 8pm. Live music kicks off at 8:30pm Texas Time. \nTickets in advance (online) $35. Day of show at gate $45. (credit/debit cards accepted at the gate) As always kids 12 & under FREE with paying adult. Online ticket sales end on September 6th at midnight. \nWe are BYOB so pack a cooler with your favorite beverages. NO COOLER CHARGE! \nCANS ONLY\, NO GLASS BOTTLES!!! \nFood and kid friendly drinks available at The Grub Tub! \n*****Proceed from show will go to support the Parmer County Stock show. \n*No refunds unless venue cancels the advertised show. \n 
URL:https://alposbarn.com/event/bart-crow-with-special-guest-pat-waters/
END:VEVENT
BEGIN:VEVENT
DTSTART;TZID=America/Denver:20241026T200000
DTEND;TZID=America/Denver:20241026T235900
DTSTAMP:20260421T024820
CREATED:20240401T182157Z
LAST-MODIFIED:20241026T221322Z
UID:11649-1729972800-1729987140@alposbarn.com
SUMMARY:Kenny Feidler & The Cowboy Killers with special guest Sal and Stonewall Hippies
DESCRIPTION:Saturday October 26\, 2024\nHalloween Party Alpo’s Barn style!!\nKenny Feidler & The Cowboy Killers with special guest Sal and Stonewall Hippies will be LIVE @ Alpo’s Barn!\nCOSTUME CONTEST CA$H PRIZES!\nTickets in advance (online) $35.00 or $45.00 day of show at the gate and as always kids 12 and under are FREE! (credit/debit cards accepted)\n** $35 online advance tickets will be sold\nuntil Friday October 25th @ midnight.\nBYOB (21yrs and over. Be prepared to show ID)…\nNo Cooler Charge!\nCans only\, no glass bottles. Strictly enforced!\nFood available at THE GRUB TUB!\n*No refunds unless show is changed or cancelled by the venue.
URL:https://alposbarn.com/event/kenny-feidler-the-cowboy-killers-with-special-guest-sal-and-stonewall-hippies/
END:VEVENT
BEGIN:VEVENT
DTSTART;TZID=America/Denver:20250531T200000
DTEND;TZID=America/Denver:20250531T235900
DTSTAMP:20260421T024820
CREATED:20250504T180437Z
LAST-MODIFIED:20250531T195255Z
UID:12950-1748721600-1748735940@alposbarn.com
SUMMARY:Two Tons of Steel with special guest Hunter Hicks
DESCRIPTION:ONLINE TICKET SALES HAVE ENDED. TICKETS WILL BE AVAILABLE AT THE GATE. GATE OPENS AT 8PM TEXAS TIME!! \nTwo Tons of Steel with special guest Hunter Hicks will be LIVE @ Alpo’s Barn!\nGates open at 8:00pm\nLive music kicks off at 9:00pm\nRemember ALL times are Texas Time!\nTickets in advance (online) $35.00 or $45.00 day of show at the gate and as always kids 12 and under are FREE! (credit/debit cards accepted) \n** $35 online advance tickets will be sold\nuntil Friday May 30th @ midnight.\nBYOB (21yrs and over. Be prepared to show ID)…\nNo Cooler Charge!\nCans only\, no glass bottles. Strictly enforced!\nFood available at THE GRUB TUB!
URL:https://alposbarn.com/event/two-tons-of-steel-with-special-guest-hunter-hicks/
END:VEVENT
BEGIN:VEVENT
DTSTART;TZID=America/Denver:20250628T200000
DTEND;TZID=America/Denver:20250628T235900
DTSTAMP:20260421T024820
CREATED:20250604T011623Z
LAST-MODIFIED:20250628T184634Z
UID:13126-1751140800-1751155140@alposbarn.com
SUMMARY:Cory Morrow LIVE at Alpo's Barn
DESCRIPTION:  \nTICKETS WILL BE AVAILABLE AT THE GATE! \nGATE OPENS AT 8PM TEXAS TIME \nSaturday June 28\, 2025Cory Morrow with special guest Chad Miller & T Good Fortune will be LIVE @ Alpo’s Barn!Gates open at 8:00pmLive music kicks off at 9:00pmRemember ALL times are Texas Time!Tickets in advance (online) $35.00 or $45.00 day of show at the gate and as always kids 12 and under are FREE! (credit/debit cards accepted)** $35 online advance tickets will be solduntil Friday June 27th @ midnight.BYOB (21yrs and over. Be prepared to show ID)…No Cooler Charge!Cans only\, no glass bottles. Strictly enforced!Food available at THE GRUB TUB! \n****We are a rain or shine venue. NO refunds will be issued unless the venue changes main band or date.
URL:https://alposbarn.com/event/cory-morrow-live-at-alpos-barn/
END:VEVENT
BEGIN:VEVENT
DTSTART;TZID=America/Denver:20250726T200000
DTEND;TZID=America/Denver:20250726T200000
DTSTAMP:20260421T024820
CREATED:20250716T204714Z
LAST-MODIFIED:20250726T200436Z
UID:13307-1753560000-1753560000@alposbarn.com
SUMMARY:Dean Seltzer & The Redneck Mothers
DESCRIPTION:  \n \nONLINE TICKET SALES HAVE ENDED. TICKETS WILL BE AVAILABLE AT THE GATE. GATE OPENS AT 8PM TEXAS TIME!!!! \nSaturday July 26 \, 2025Dean Seltzer & The Redneck Mothers will be LIVE @ Alpo’s Barn!Gates open at 8:00pmLive music kicks off at 9:00pmRemember ALL times are Texas Time!Tickets in advance (online) $25.00 or $35.00 day of show at the gate and as always kids 12 and under are FREE! (credit/debit cards accepted)** $25 online advance tickets will be solduntil Friday July 25th @ midnight.BYOB (21yrs and over. Be prepared to show ID)…No Cooler Charge!Cans only\, no glass bottles. Strictly enforced!Food available at THE GRUB TUB! \nRain or shine venue. No refunds unless venue cancels the show!
URL:https://alposbarn.com/event/dean-seltzer-the-redneck-mothers/
END:VEVENT
BEGIN:VEVENT
DTSTART;TZID=America/Denver:20250906T180000
DTEND;TZID=America/Denver:20250906T235900
DTSTAMP:20260421T024820
CREATED:20250823T221510Z
LAST-MODIFIED:20250906T185623Z
UID:13435-1757181600-1757203140@alposbarn.com
SUMMARY:Parmer County Junior Stock Show Steak Fundraiser
DESCRIPTION:Saturday September 6\, 2025Parmer County Junior Livestock Show presents their Steak Dinner Fundraiser featuring Carson Jeffrey with speacial guest Seth Ward.Dinner will be served @ 6pm Texas Time with entertainment to follow.Tickets are $100 per person. Ticket includes dinner and free admission to the concert.
URL:https://alposbarn.com/event/parmer-county-junior-stock-show-steak-fundraiser/
END:VEVENT
BEGIN:VEVENT
DTSTART;TZID=America/Denver:20250906T200000
DTEND;TZID=America/Denver:20250906T235900
DTSTAMP:20260421T024820
CREATED:20250823T220341Z
LAST-MODIFIED:20250906T190911Z
UID:13432-1757188800-1757203140@alposbarn.com
SUMMARY:Carson Jeffrey with special guest Seth Ward
DESCRIPTION:ONLINE TICKETS SALES HAVE ENDED. TICKETS WILL BE AVAILABLE AT THE GATE. GATE OPENS AT 8PM TEXAS TIME!! \nSaturday September 6\, 2025\nCarson Jeffrey with special guest Seth Ward will be LIVE @ Alpo’s Barn!\nGates open at 8:00pm\nLive music kicks off at 9:00pm\nRemember ALL times are Texas Time!\nTickets in advance (online) $35.00 or $45.00 day of show at the gate and as always kids 12 and under are FREE! (credit/debit cards accepted)\nFor advance tickets visit:\nwww.alposbarn.com\n** $35 online advance tickets will be sold\nuntil Friday September 5th @ midnight.\nBYOB (21yrs and over. Be prepared to show ID)…\nNo Cooler Charge!\nCans only\, no glass bottles. Strictly enforced!\nFood available at THE GRUB TUB!
URL:https://alposbarn.com/event/carson-jeffrey-with-special-guest-seth-ward/
END:VEVENT
BEGIN:VEVENT
DTSTART;TZID=America/Denver:20251025T200000
DTEND;TZID=America/Denver:20251025T235900
DTSTAMP:20260421T024820
CREATED:20251007T213327Z
LAST-MODIFIED:20251025T213308Z
UID:13582-1761422400-1761436740@alposbarn.com
SUMMARY:Hub City Drifters
DESCRIPTION:Online tickets have ended. Tickets will be available at the gate. Gate opens at 8pm Texas Time.\nThe Hub City Drifters will be LIVE at Alpo’s Barn!\nOne band two hours of LIVE music\, 1960’s through 2000 Classic Country Music!\nAdvance online tickets $25. Day of show at gate $35. As always kids 12 & under FREE!Advance tickets will be sold until Friday\, October 24th at midnight.\nGate open at 8pm. Music kicks off at 9pm Texas Time.\nFood available at The Grub Tub.\nBYOB – Cans Only… NO GLASS BOTTLES\n\n*Rain or shine venue. No refunds unless venue cancels event.
URL:https://alposbarn.com/event/hub-city-drifters/
END:VEVENT
BEGIN:VEVENT
DTSTART;TZID=America/Denver:20260418T200000
DTEND;TZID=America/Denver:20260418T235900
DTSTAMP:20260421T024820
CREATED:20260307T214921Z
LAST-MODIFIED:20260418T201526Z
UID:13637-1776542400-1776556740@alposbarn.com
SUMMARY:The Rough Riders
DESCRIPTION:TICKETS WILL BE AVAILABLE AT THE GATE!\nThe Rough Riders of Nazareth Texas will be LIVE at Alpo’s Barn!\nAdvance online tickets $25. Day of show at gate $35. As always kids 12 & under FREE!Advance tickets will be sold until Friday\, April 17th at midnight.Gate open at 8pm. Music kicks off at 9pm Texas Time.Food available at The Grub Tub.\nBYOB – Cans Only… NO GLASS BOTTLES!\n\n**RAIN OR SHINE VENUE. NO REFUNDS UNLESS VENUE CANCELS EVENT.
URL:https://alposbarn.com/event/the-rough-riders/
END:VEVENT
END:VCALENDAR